BEGIN:VCALENDAR
VERSION:2.0
PRODID:-//Realschule plus Bellheim - ECPv5.10.0//NONSGML v1.0//EN
CALSCALE:GREGORIAN
METHOD:PUBLISH
X-WR-CALNAME:Realschule plus Bellheim
X-ORIGINAL-URL:https://rs-plus-bellheim.de
X-WR-CALDESC:Veranstaltungen für Realschule plus Bellheim
BEGIN:VTIMEZONE
TZID:Europe/Berlin
BEGIN:DAYLIGHT
TZOFFSETFROM:+0100
TZOFFSETTO:+0200
TZNAME:CEST
DTSTART:20200329T010000
END:DAYLIGHT
BEGIN:STANDARD
TZOFFSETFROM:+0200
TZOFFSETTO:+0100
TZNAME:CET
DTSTART:20201025T010000
END:STANDARD
END:VTIMEZONE
BEGIN:VEVENT
DTSTART;VALUE=DATE:20200821
DTEND;VALUE=DATE:20200822
DTSTAMP:20260420T200423
CREATED:20200716T150647Z
LAST-MODIFIED:20200716T150647Z
UID:4339-1597968000-1598054399@rs-plus-bellheim.de
SUMMARY:Wandertag der 5. Klassen mit Paten
DESCRIPTION:
URL:https://rs-plus-bellheim.de/event/wandertag-der-5-klassen-mit-paten/
END:VEVENT
END:VCALENDAR