BEGIN:VCALENDAR
VERSION:2.0
PRODID:-//Realschule plus Bellheim - ECPv5.10.0//NONSGML v1.0//EN
CALSCALE:GREGORIAN
METHOD:PUBLISH
X-WR-CALNAME:Realschule plus Bellheim
X-ORIGINAL-URL:https://rs-plus-bellheim.de
X-WR-CALDESC:Veranstaltungen für Realschule plus Bellheim
BEGIN:VTIMEZONE
TZID:Europe/Berlin
BEGIN:DAYLIGHT
TZOFFSETFROM:+0100
TZOFFSETTO:+0200
TZNAME:CEST
DTSTART:20220327T010000
END:DAYLIGHT
BEGIN:STANDARD
TZOFFSETFROM:+0200
TZOFFSETTO:+0100
TZNAME:CET
DTSTART:20221030T010000
END:STANDARD
END:VTIMEZONE
BEGIN:VEVENT
DTSTART;TZID=Europe/Berlin:20221014T080000
DTEND;TZID=Europe/Berlin:20221014T130000
DTSTAMP:20260422T231326
CREATED:20220921T103947Z
LAST-MODIFIED:20220921T103947Z
UID:7417-1665734400-1665752400@rs-plus-bellheim.de
SUMMARY:Wandertag
DESCRIPTION:
URL:https://rs-plus-bellheim.de/event/wandertag-4/
END:VEVENT
END:VCALENDAR