BEGIN:VCALENDAR
VERSION:2.0
PRODID:-//Realschule plus Bellheim - ECPv5.10.0//NONSGML v1.0//EN
CALSCALE:GREGORIAN
METHOD:PUBLISH
X-WR-CALNAME:Realschule plus Bellheim
X-ORIGINAL-URL:https://rs-plus-bellheim.de
X-WR-CALDESC:Veranstaltungen für Realschule plus Bellheim
BEGIN:VTIMEZONE
TZID:Europe/Berlin
BEGIN:DAYLIGHT
TZOFFSETFROM:+0100
TZOFFSETTO:+0200
TZNAME:CEST
DTSTART:20200329T010000
END:DAYLIGHT
BEGIN:STANDARD
TZOFFSETFROM:+0200
TZOFFSETTO:+0100
TZNAME:CET
DTSTART:20201025T010000
END:STANDARD
END:VTIMEZONE
BEGIN:VEVENT
DTSTART;VALUE=DATE:20201121
DTEND;VALUE=DATE:20201122
DTSTAMP:20260420T164857
CREATED:20200716T151056Z
LAST-MODIFIED:20200930T073237Z
UID:4347-1605916800-1606003199@rs-plus-bellheim.de
SUMMARY:Tag der offenen Tür - Schulhausführungen nach Voranmeldung
DESCRIPTION:Auf Grund der aktuellen Corona-Situation können wir leider keinen „Tag der offenen Tür“ in der normalen\, offenen Form anbieten. Gerne können Sie jedoch einen individuellen Termin vereinbaren\, um sich von uns durch das Schulhaus führen zu lassen. \nZur Anmeldung
URL:https://rs-plus-bellheim.de/event/tag-der-offenen-tuer-martinsmarkt/
END:VEVENT
END:VCALENDAR