BEGIN:VCALENDAR
VERSION:2.0
PRODID:-//Realschule plus Bellheim - ECPv5.10.0//NONSGML v1.0//EN
CALSCALE:GREGORIAN
METHOD:PUBLISH
X-WR-CALNAME:Realschule plus Bellheim
X-ORIGINAL-URL:https://rs-plus-bellheim.de
X-WR-CALDESC:Veranstaltungen für Realschule plus Bellheim
BEGIN:VTIMEZONE
TZID:Europe/Berlin
BEGIN:DAYLIGHT
TZOFFSETFROM:+0100
TZOFFSETTO:+0200
TZNAME:CEST
DTSTART:20220327T010000
END:DAYLIGHT
BEGIN:STANDARD
TZOFFSETFROM:+0200
TZOFFSETTO:+0100
TZNAME:CET
DTSTART:20221030T010000
END:STANDARD
END:VTIMEZONE
BEGIN:VEVENT
DTSTART;TZID=Europe/Berlin:20221210T093000
DTEND;TZID=Europe/Berlin:20221210T143000
DTSTAMP:20260426T025931
CREATED:20220921T105227Z
LAST-MODIFIED:20221121T133005Z
UID:7438-1670664600-1670682600@rs-plus-bellheim.de
SUMMARY:Schule live erleben
DESCRIPTION:Besuchen Sie uns. Lernen Sie und Ihr Kind uns kennen.  \nErleben Sie einen normalen Schultag an der Realschule plus in Bellheim. \nBitte einen Termin vereinbaren\, damit wir Ihnen eine individuelle Führung anbieten können. 
URL:https://rs-plus-bellheim.de/event/schule-live-erleben-2/
END:VEVENT
END:VCALENDAR