BEGIN:VCALENDAR
VERSION:2.0
PRODID:-//Realschule plus Bellheim - ECPv5.10.0//NONSGML v1.0//EN
CALSCALE:GREGORIAN
METHOD:PUBLISH
X-WR-CALNAME:Realschule plus Bellheim
X-ORIGINAL-URL:https://rs-plus-bellheim.de
X-WR-CALDESC:Veranstaltungen für Realschule plus Bellheim
BEGIN:VTIMEZONE
TZID:Europe/Berlin
BEGIN:DAYLIGHT
TZOFFSETFROM:+0100
TZOFFSETTO:+0200
TZNAME:CEST
DTSTART:20200329T010000
END:DAYLIGHT
BEGIN:STANDARD
TZOFFSETFROM:+0200
TZOFFSETTO:+0100
TZNAME:CET
DTSTART:20201025T010000
END:STANDARD
END:VTIMEZONE
BEGIN:VEVENT
DTSTART;TZID=Europe/Berlin:20201218T094500
DTEND;TZID=Europe/Berlin:20201218T110000
DTSTAMP:20260420T201206
CREATED:20200716T151321Z
LAST-MODIFIED:20200716T151321Z
UID:4351-1608284700-1608289200@rs-plus-bellheim.de
SUMMARY:Jahresabschlussgottesdienst
DESCRIPTION:
URL:https://rs-plus-bellheim.de/event/jahresabschlussgottesdienst/
END:VEVENT
END:VCALENDAR