BEGIN:VCALENDAR
VERSION:2.0
PRODID:-//Realschule plus Bellheim - ECPv5.10.0//NONSGML v1.0//EN
CALSCALE:GREGORIAN
METHOD:PUBLISH
X-WR-CALNAME:Realschule plus Bellheim
X-ORIGINAL-URL:https://rs-plus-bellheim.de
X-WR-CALDESC:Veranstaltungen für Realschule plus Bellheim
BEGIN:VTIMEZONE
TZID:Europe/Berlin
BEGIN:DAYLIGHT
TZOFFSETFROM:+0100
TZOFFSETTO:+0200
TZNAME:CEST
DTSTART:20210328T010000
END:DAYLIGHT
BEGIN:STANDARD
TZOFFSETFROM:+0200
TZOFFSETTO:+0100
TZNAME:CET
DTSTART:20211031T010000
END:STANDARD
END:VTIMEZONE
BEGIN:VEVENT
DTSTART;TZID=Europe/Berlin:20210129T080000
DTEND;TZID=Europe/Berlin:20210129T111500
DTSTAMP:20260420T232130
CREATED:20200716T151441Z
LAST-MODIFIED:20200716T151441Z
UID:4353-1611907200-1611918900@rs-plus-bellheim.de
SUMMARY:Halbjahreszeugnisse
DESCRIPTION:
URL:https://rs-plus-bellheim.de/event/halbjahreszeugnisse/
END:VEVENT
END:VCALENDAR