BEGIN:VCALENDAR
VERSION:2.0
PRODID:-//Realschule plus Bellheim - ECPv5.10.0//NONSGML v1.0//EN
CALSCALE:GREGORIAN
METHOD:PUBLISH
X-WR-CALNAME:Realschule plus Bellheim
X-ORIGINAL-URL:https://rs-plus-bellheim.de
X-WR-CALDESC:Veranstaltungen für Realschule plus Bellheim
BEGIN:VTIMEZONE
TZID:Europe/Berlin
BEGIN:DAYLIGHT
TZOFFSETFROM:+0100
TZOFFSETTO:+0200
TZNAME:CEST
DTSTART:20200329T010000
END:DAYLIGHT
BEGIN:STANDARD
TZOFFSETFROM:+0200
TZOFFSETTO:+0100
TZNAME:CET
DTSTART:20201025T010000
END:STANDARD
END:VTIMEZONE
BEGIN:VEVENT
DTSTART;TZID=Europe/Berlin:20200817T090000
DTEND;TZID=Europe/Berlin:20200817T093000
DTSTAMP:20260420T220755
CREATED:20200625T051826Z
LAST-MODIFIED:20200625T051826Z
UID:4179-1597654800-1597656600@rs-plus-bellheim.de
SUMMARY:Begrüßung der Klasse 5b
DESCRIPTION:Unsere neue Klasse 5b wird um 09:00 Uhr im Mehrzweckraum begrüßt.
URL:https://rs-plus-bellheim.de/event/begruessung-der-klasse-5b/
END:VEVENT
END:VCALENDAR