BEGIN:VCALENDAR
VERSION:2.0
PRODID:-//Realschule plus Bellheim - ECPv5.10.0//NONSGML v1.0//EN
CALSCALE:GREGORIAN
METHOD:PUBLISH
X-WR-CALNAME:Realschule plus Bellheim
X-ORIGINAL-URL:https://rs-plus-bellheim.de
X-WR-CALDESC:Veranstaltungen für Realschule plus Bellheim
BEGIN:VTIMEZONE
TZID:Europe/Berlin
BEGIN:DAYLIGHT
TZOFFSETFROM:+0100
TZOFFSETTO:+0200
TZNAME:CEST
DTSTART:20220327T010000
END:DAYLIGHT
BEGIN:STANDARD
TZOFFSETFROM:+0200
TZOFFSETTO:+0100
TZNAME:CET
DTSTART:20221030T010000
END:STANDARD
END:VTIMEZONE
BEGIN:VEVENT
DTSTART;VALUE=DATE:20221005
DTEND;VALUE=DATE:20221006
DTSTAMP:20260423T010107
CREATED:20220921T103830Z
LAST-MODIFIED:20220921T103830Z
UID:7414-1664928000-1665014399@rs-plus-bellheim.de
SUMMARY:Beginn Praxistag Klasse 9b
DESCRIPTION:Die Klasse 9b startet ab jetzt immer mittwochs in den Praxistag. 
URL:https://rs-plus-bellheim.de/event/beginn-praxistag-klasse-9b/
END:VEVENT
END:VCALENDAR